BEGIN:VCALENDAR
VERSION:2.0
PRODID:-//Library Market//iCal Export//EN
BEGIN:VEVENT
SUMMARY:Summer Reading Program Kick Off Party - Dino Dig
UID:194
DTSTAMP:20260423T231500Z
DTSTART:20260605T140000Z
DTEND:20260605T160000Z
LOCATION:130 Adams Pk Blvd, Mars, PA 16046, Mars, PA 16046, United States
ROOM: Summer Reading Program Kick Off Party - Dino Dig
DESCRIPTION:The Mars Area Public Library will kick off our Summer Reading 
 Program with a Dino Dig Event!  Join us for games, activities, face paint
 ing, snacks, and more.  This event will be held outside at the Adam&#039;
 s Township Community Park at the Township Pavilion.  We look forward to c
 elebrating a prehistoric summer with everyone!
URL:https://marsarea.librarycalendar.com/event/summer-reading-program-kick
 -party-194
END:VEVENT
END:VCALENDAR
